View In:
ArcGIS JavaScript
ArcGIS Online map viewer
Google Earth
ArcMap
ArcGIS Explorer
View Footprint In:
ArcGIS Online map viewer
Service Description: Historical Admiralty chart of Aran Islands in Galway Bay,Donegal Bay and Cork Harbour. Sourced from the UK Hydrographic Office (www.ukho.gov.uk).
Map Name: Layers
Legend
All Layers and Tables
Layers:
Description:
Copyright Text: Sourced from the UK Hydrographic Office (www.ukho.gov.uk).
Spatial Reference:
102100
(3857)
Single Fused Map Cache: true
Tile Info:
- Height: 256
- Width: 256
- DPI: 96
-
Levels of Detail: 20
-
Level ID: 1
[ Start Tile, End Tile ]
- Resolution: 78271.5169639999
- Scale: 2.95828763795777E8
-
Level ID: 2
[ Start Tile, End Tile ]
- Resolution: 39135.7584820001
- Scale: 1.47914381897889E8
-
Level ID: 3
[ Start Tile, End Tile ]
- Resolution: 19567.8792409999
- Scale: 7.3957190948944E7
-
Level ID: 4
[ Start Tile, End Tile ]
- Resolution: 9783.93962049996
- Scale: 3.6978595474472E7
-
Level ID: 5
[ Start Tile, End Tile ]
- Resolution: 4891.96981024998
- Scale: 1.8489297737236E7
- Format: PNG8
- Compression Quality: 0.0
- Origin: X: -2.0037508342787E7
Y: 2.0037508342787E7
- Spatial Reference: 102100
(3857)
Initial Extent:
XMin: -1323704.0758578712
YMin: 6928158.7987244725
XMax: -432150.52166149527
YMax: 7341148.782471381
Spatial Reference: 102100
Full Extent:
XMin: -1108599.8828430423
YMin: 6751978.691900707
XMax: -655545.7885197086
YMax: 7303240.782057469
Spatial Reference: 102100
Units: esriMeters
Supported Image Format Types: PNG32,PNG24,PNG,JPG,DIB,TIFF,EMF,PS,PDF,GIF,SVG,SVGZ,BMP
Document Info:
Title:
Author:
Comments: Historical Admiralty chart of Aran Islands in Galway Bay,Donegal Bay and Cork Harbour. Sourced from the UK Hydrographic Office (www.ukho.gov.uk).
Subject: Historical Admiralty chart of Aran Islands in Galway Bay,Donegal Bay and Cork Harbour. Sourced from the UK Hydrographic Office (www.ukho.gov.uk).
Category:
Keywords:
AntialiasingMode: None
TextAntialiasingMode: Force
Supports Dynamic Layers: false
MaxRecordCount: 1000
MaxImageHeight: 4096
MaxImageWidth: 4096
Supported Query Formats: JSON, AMF, geoJSON
Min Scale: 4622324.434309
Max Scale: 18055.954822
Child Resources:
Info
Supported Operations:
Export Map
Identify
Find
Return Updates
Generate KML